BEGIN:VCALENDAR
VERSION:2.0
PRODID:-//Real Hermandad y Cofradía Infantil - ECPv6.15.13//NONSGML v1.0//EN
CALSCALE:GREGORIAN
METHOD:PUBLISH
X-WR-CALNAME:Real Hermandad y Cofradía Infantil
X-ORIGINAL-URL:https://infantiles.semanasantademerida.es
X-WR-CALDESC:Eventos para Real Hermandad y Cofradía Infantil
REFRESH-INTERVAL;VALUE=DURATION:PT1H
X-Robots-Tag:noindex
X-PUBLISHED-TTL:PT1H
BEGIN:VTIMEZONE
TZID:Europe/Madrid
BEGIN:DAYLIGHT
TZOFFSETFROM:+0100
TZOFFSETTO:+0200
TZNAME:CEST
DTSTART:20180325T010000
END:DAYLIGHT
BEGIN:STANDARD
TZOFFSETFROM:+0200
TZOFFSETTO:+0100
TZNAME:CET
DTSTART:20181028T010000
END:STANDARD
BEGIN:DAYLIGHT
TZOFFSETFROM:+0100
TZOFFSETTO:+0200
TZNAME:CEST
DTSTART:20190331T010000
END:DAYLIGHT
BEGIN:STANDARD
TZOFFSETFROM:+0200
TZOFFSETTO:+0100
TZNAME:CET
DTSTART:20191027T010000
END:STANDARD
BEGIN:DAYLIGHT
TZOFFSETFROM:+0100
TZOFFSETTO:+0200
TZNAME:CEST
DTSTART:20200329T010000
END:DAYLIGHT
BEGIN:STANDARD
TZOFFSETFROM:+0200
TZOFFSETTO:+0100
TZNAME:CET
DTSTART:20201025T010000
END:STANDARD
BEGIN:DAYLIGHT
TZOFFSETFROM:+0100
TZOFFSETTO:+0200
TZNAME:CEST
DTSTART:20210328T010000
END:DAYLIGHT
BEGIN:STANDARD
TZOFFSETFROM:+0200
TZOFFSETTO:+0100
TZNAME:CET
DTSTART:20211031T010000
END:STANDARD
BEGIN:DAYLIGHT
TZOFFSETFROM:+0100
TZOFFSETTO:+0200
TZNAME:CEST
DTSTART:20220327T010000
END:DAYLIGHT
BEGIN:STANDARD
TZOFFSETFROM:+0200
TZOFFSETTO:+0100
TZNAME:CET
DTSTART:20221030T010000
END:STANDARD
BEGIN:DAYLIGHT
TZOFFSETFROM:+0100
TZOFFSETTO:+0200
TZNAME:CEST
DTSTART:20230326T010000
END:DAYLIGHT
BEGIN:STANDARD
TZOFFSETFROM:+0200
TZOFFSETTO:+0100
TZNAME:CET
DTSTART:20231029T010000
END:STANDARD
BEGIN:DAYLIGHT
TZOFFSETFROM:+0100
TZOFFSETTO:+0200
TZNAME:CEST
DTSTART:20240331T010000
END:DAYLIGHT
BEGIN:STANDARD
TZOFFSETFROM:+0200
TZOFFSETTO:+0100
TZNAME:CET
DTSTART:20241027T010000
END:STANDARD
END:VTIMEZONE
BEGIN:VEVENT
DTSTART;TZID=Europe/Madrid:20230317T183000
DTEND;TZID=Europe/Madrid:20230317T193000
DTSTAMP:20260425T015610
CREATED:20230301T082414Z
LAST-MODIFIED:20230301T082540Z
UID:869-1679077800-1679081400@infantiles.semanasantademerida.es
SUMMARY:Escuela Cofrade Pablo Barroso Sánchez (Cuarto Viernes Cuaresma)
DESCRIPTION:
URL:https://infantiles.semanasantademerida.es/evento/escuela-cofrade-pablo-barroso-sanchez-cuarto-viernes-cuaresma/
LOCATION:Casa Parroquial de Santa María\, Cl. San Salvador\, Mérida\, Badajoz\, 06800\, España
CATEGORIES:eventos
ATTACH;FMTTYPE=image/jpeg:https://infantiles.semanasantademerida.es/wp-content/uploads/2019/03/burrita.jpg
ORGANIZER;CN="Real Hdad. y Cofrad%C3%ADa Infantil":MAILTO:cofradiainfantil@gmail.com
END:VEVENT
BEGIN:VEVENT
DTSTART;TZID=Europe/Madrid:20230310T183000
DTEND;TZID=Europe/Madrid:20230310T193000
DTSTAMP:20260425T015610
CREATED:20230301T082305Z
LAST-MODIFIED:20230301T082555Z
UID:865-1678473000-1678476600@infantiles.semanasantademerida.es
SUMMARY:Escuela Cofrade Pablo Barroso Sánchez (Tercer Viernes Cuaresma)
DESCRIPTION:
URL:https://infantiles.semanasantademerida.es/evento/escuela-cofrade-pablo-barroso-sanchez-tercer-viernes-cuaresma/
LOCATION:Casa Parroquial de Santa María\, Cl. San Salvador\, Mérida\, Badajoz\, 06800\, España
CATEGORIES:eventos
ATTACH;FMTTYPE=image/jpeg:https://infantiles.semanasantademerida.es/wp-content/uploads/2019/03/burrita.jpg
ORGANIZER;CN="Real Hdad. y Cofrad%C3%ADa Infantil":MAILTO:cofradiainfantil@gmail.com
END:VEVENT
BEGIN:VEVENT
DTSTART;TZID=Europe/Madrid:20230310T090000
DTEND;TZID=Europe/Madrid:20230310T193000
DTSTAMP:20260425T015610
CREATED:20230305T170704Z
LAST-MODIFIED:20230305T183248Z
UID:823-1678438800-1678476600@infantiles.semanasantademerida.es
SUMMARY:Solemne Veneración Cristo de las Injurias
DESCRIPTION:
URL:https://infantiles.semanasantademerida.es/evento/solemne-veneracion-cristo-de-las-injurias/
LOCATION:Concatedral de Santa María\, Plaza de España\, Mérida\, Badajoz\, 06800\, Spain
CATEGORIES:Cultos
ATTACH;FMTTYPE=image/jpeg:https://infantiles.semanasantademerida.es/wp-content/uploads/2023/02/LuisZama_Infantil_009.jpg
ORGANIZER;CN="Real Hdad. y Cofrad%C3%ADa Infantil":MAILTO:cofradiainfantil@gmail.com
END:VEVENT
BEGIN:VEVENT
DTSTART;TZID=Europe/Madrid:20230304T130000
DTEND;TZID=Europe/Madrid:20230304T200000
DTSTAMP:20260425T015610
CREATED:20230301T083459Z
LAST-MODIFIED:20230301T083746Z
UID:883-1677934800-1677960000@infantiles.semanasantademerida.es
SUMMARY:Convivencia Solidaria "La Revirá"
DESCRIPTION:
URL:https://infantiles.semanasantademerida.es/evento/convivencia-solidaria-la-revira-2/
LOCATION:Concatedral de Santa María\, Plaza de España\, Mérida\, Badajoz\, 06800\, Spain
CATEGORIES:eventos
ATTACH;FMTTYPE=image/jpeg:https://infantiles.semanasantademerida.es/wp-content/uploads/2023/02/LaRevira2023-1.jpg
ORGANIZER;CN="Real Hdad. y Cofrad%C3%ADa Infantil":MAILTO:cofradiainfantil@gmail.com
END:VEVENT
BEGIN:VEVENT
DTSTART;TZID=Europe/Madrid:20230303T183000
DTEND;TZID=Europe/Madrid:20230303T193000
DTSTAMP:20260425T015610
CREATED:20230301T082017Z
LAST-MODIFIED:20230301T082608Z
UID:863-1677868200-1677871800@infantiles.semanasantademerida.es
SUMMARY:Escuela Cofrade Pablo Barroso Sánchez (Segundo Viernes Cuaresma)
DESCRIPTION:
URL:https://infantiles.semanasantademerida.es/evento/escuela-cofrade-pablo-barroso-sanchez-segundo-viernes-cuaresma/
LOCATION:Casa Parroquial de Santa María\, Cl. San Salvador\, Mérida\, Badajoz\, 06800\, España
CATEGORIES:eventos
ATTACH;FMTTYPE=image/jpeg:https://infantiles.semanasantademerida.es/wp-content/uploads/2019/03/burrita.jpg
ORGANIZER;CN="Real Hdad. y Cofrad%C3%ADa Infantil":MAILTO:cofradiainfantil@gmail.com
END:VEVENT
BEGIN:VEVENT
DTSTART;TZID=Europe/Madrid:20230303T090000
DTEND;TZID=Europe/Madrid:20230303T183000
DTSTAMP:20260425T015610
CREATED:20230226T183357Z
LAST-MODIFIED:20230227T171241Z
UID:654-1677834000-1677868200@infantiles.semanasantademerida.es
SUMMARY:Solemne Veneración Cristo de Medinaceli
DESCRIPTION:
URL:https://infantiles.semanasantademerida.es/evento/solemne-veneracion-cristo-de-medinaceli/
LOCATION:Concatedral de Santa María\, Plaza de España\, Mérida\, Badajoz\, 06800\, Spain
CATEGORIES:Cultos
ATTACH;FMTTYPE=image/jpeg:https://infantiles.semanasantademerida.es/wp-content/uploads/2023/02/lunes16.jpg
ORGANIZER;CN="Real Hdad. y Cofrad%C3%ADa Infantil":MAILTO:cofradiainfantil@gmail.com
END:VEVENT
BEGIN:VEVENT
DTSTART;TZID=Europe/Madrid:20211016T113000
DTEND;TZID=Europe/Madrid:20211016T223000
DTSTAMP:20260425T015610
CREATED:20210914T162315Z
LAST-MODIFIED:20210914T162315Z
UID:516-1634383800-1634423400@infantiles.semanasantademerida.es
SUMMARY:III Concurso de Arroces
DESCRIPTION:
URL:https://infantiles.semanasantademerida.es/evento/iii-concurso-de-arroces/
LOCATION:Casa de Hermandad y Secretaría\, Calle Zapateros\, s/n (Barriada de San Juan)\, Mérida\, Badajoz\, 06800\, Spain
ORGANIZER;CN="Real Hdad. y Cofrad%C3%ADa Infantil":MAILTO:cofradiainfantil@gmail.com
END:VEVENT
BEGIN:VEVENT
DTSTART;TZID=Europe/Madrid:20211002T203000
DTEND;TZID=Europe/Madrid:20211003T130000
DTSTAMP:20260425T015610
CREATED:20210927T122242Z
LAST-MODIFIED:20210927T122334Z
UID:520-1633206600-1633266000@infantiles.semanasantademerida.es
SUMMARY:Rosario
DESCRIPTION:
URL:https://infantiles.semanasantademerida.es/evento/rosario-2/
LOCATION:Concatedral de Santa María\, Plaza de España\, Mérida\, Badajoz\, 06800\, Spain
CATEGORIES:Cultos
ORGANIZER;CN="Real Hdad. y Cofrad%C3%ADa Infantil":MAILTO:cofradiainfantil@gmail.com
END:VEVENT
BEGIN:VEVENT
DTSTART;TZID=Europe/Madrid:20210320T180000
DTEND;TZID=Europe/Madrid:20210320T200000
DTSTAMP:20260425T015610
CREATED:20210315T082228Z
LAST-MODIFIED:20210315T082228Z
UID:499-1616263200-1616270400@infantiles.semanasantademerida.es
SUMMARY:Culto a Ntra. Sra. del Rosario y Jesús de la Entrada en Jerusalén
DESCRIPTION:
URL:https://infantiles.semanasantademerida.es/evento/culto-a-ntra-sra-del-rosario-y-jesus-de-la-entrada-en-jerusalen/
LOCATION:Concatedral de Santa María\, Plaza de España\, Mérida\, Badajoz\, 06800\, Spain
CATEGORIES:eventos
ATTACH;FMTTYPE=image/jpeg:https://infantiles.semanasantademerida.es/wp-content/uploads/2019/03/cabeceraNoticias.jpg
ORGANIZER;CN="Real Hdad. y Cofrad%C3%ADa Infantil":MAILTO:cofradiainfantil@gmail.com
END:VEVENT
BEGIN:VEVENT
DTSTART;TZID=Europe/Madrid:20210226T093000
DTEND;TZID=Europe/Madrid:20210226T203000
DTSTAMP:20260425T015610
CREATED:20210218T203244Z
LAST-MODIFIED:20210219T081912Z
UID:468-1614331800-1614371400@infantiles.semanasantademerida.es
SUMMARY:Culto al Stmo. Cristo de las Injurias
DESCRIPTION:
URL:https://infantiles.semanasantademerida.es/evento/culto-al-stmo-cristo-de-las-injurias/
LOCATION:Concatedral de Santa María\, Plaza de España\, Mérida\, Badajoz\, 06800\, Spain
ORGANIZER;CN="Real Hdad. y Cofrad%C3%ADa Infantil":MAILTO:cofradiainfantil@gmail.com
END:VEVENT
BEGIN:VEVENT
DTSTART;TZID=Europe/Madrid:20200313T193000
DTEND;TZID=Europe/Madrid:20200313T203000
DTSTAMP:20260425T015610
CREATED:20200309T112726Z
LAST-MODIFIED:20200309T112726Z
UID:415-1584127800-1584131400@infantiles.semanasantademerida.es
SUMMARY:Culto al Santísimo Cristo de las Injurias
DESCRIPTION:
URL:https://infantiles.semanasantademerida.es/evento/culto-al-santisimo-cristo-de-las-injurias/
LOCATION:Concatedral de Santa María\, Plaza de España\, Mérida\, Badajoz\, 06800\, Spain
ORGANIZER;CN="Real Hdad. y Cofrad%C3%ADa Infantil":MAILTO:cofradiainfantil@gmail.com
END:VEVENT
BEGIN:VEVENT
DTSTART;VALUE=DATE:20200307
DTEND;VALUE=DATE:20200308
DTSTAMP:20260425T015610
CREATED:20200306T075018Z
LAST-MODIFIED:20200306T075018Z
UID:407-1583539200-1583625599@infantiles.semanasantademerida.es
SUMMARY:Convivencia Solidaria "La Revirá"
DESCRIPTION:
URL:https://infantiles.semanasantademerida.es/evento/convivencia-solidaria-la-revira/
LOCATION:Concatedral de Santa María\, Plaza de España\, Mérida\, Badajoz\, 06800\, Spain
CATEGORIES:eventos
ORGANIZER;CN="Real Hdad. y Cofrad%C3%ADa Infantil":MAILTO:cofradiainfantil@gmail.com
END:VEVENT
BEGIN:VEVENT
DTSTART;TZID=Europe/Madrid:20200306T180000
DTEND;TZID=Europe/Madrid:20200306T190000
DTSTAMP:20260425T015610
CREATED:20200306T075552Z
LAST-MODIFIED:20200306T080426Z
UID:409-1583517600-1583521200@infantiles.semanasantademerida.es
SUMMARY:IX Escuela Cofrade "Pablo Barroso Sánchez"
DESCRIPTION:
URL:https://infantiles.semanasantademerida.es/evento/ix-escuela-cofrade-pablo-barroso-sanchez/
LOCATION:Casa Parroquial de Santa María\, Cl. San Salvador\, Mérida\, Badajoz\, 06800\, España
CATEGORIES:eventos
ORGANIZER;CN="Real Hdad. y Cofrad%C3%ADa Infantil":MAILTO:cofradiainfantil@gmail.com
END:VEVENT
BEGIN:VEVENT
DTSTART;VALUE=DATE:20200306
DTEND;VALUE=DATE:20200307
DTSTAMP:20260425T015610
CREATED:20200306T074912Z
LAST-MODIFIED:20200306T074912Z
UID:405-1583452800-1583539199@infantiles.semanasantademerida.es
SUMMARY:Besapié Ntro. Padre Jesús de Medinaceli
DESCRIPTION:
URL:https://infantiles.semanasantademerida.es/evento/besapie-ntro-padre-jesus-de-medinaceli/
LOCATION:Concatedral de Santa María\, Plaza de España\, Mérida\, Badajoz\, 06800\, Spain
CATEGORIES:eventos
ORGANIZER;CN="Real Hdad. y Cofrad%C3%ADa Infantil":MAILTO:cofradiainfantil@gmail.com
END:VEVENT
BEGIN:VEVENT
DTSTART;TZID=Europe/Madrid:20191018T200000
DTEND;TZID=Europe/Madrid:20191018T213000
DTSTAMP:20260425T015610
CREATED:20191004T085014Z
LAST-MODIFIED:20191004T085405Z
UID:362-1571428800-1571434200@infantiles.semanasantademerida.es
SUMMARY:Asamblea General Ordinaria 2019
DESCRIPTION:
URL:https://infantiles.semanasantademerida.es/evento/asamblea-general-ordinaria-2019/
LOCATION:Casa Parroquial de Santa María\, Cl. San Salvador\, Mérida\, Badajoz\, 06800\, España
CATEGORIES:convocatorias
ORGANIZER;CN="Real Hdad. y Cofrad%C3%ADa Infantil":MAILTO:cofradiainfantil@gmail.com
END:VEVENT
BEGIN:VEVENT
DTSTART;TZID=Europe/Madrid:20191006T120000
DTEND;TZID=Europe/Madrid:20191006T140000
DTSTAMP:20260425T015610
CREATED:20191004T090032Z
LAST-MODIFIED:20191004T090034Z
UID:370-1570363200-1570370400@infantiles.semanasantademerida.es
SUMMARY:Rosario
DESCRIPTION:Eucaristía: 12 horas. \nBesamanos : durante todo el día.
URL:https://infantiles.semanasantademerida.es/evento/rosario/
LOCATION:Concatedral de Santa María\, Plaza de España\, Mérida\, Badajoz\, 06800\, Spain
CATEGORIES:Cultos
ORGANIZER;CN="Real Hdad. y Cofrad%C3%ADa Infantil":MAILTO:cofradiainfantil@gmail.com
END:VEVENT
BEGIN:VEVENT
DTSTART;TZID=Europe/Madrid:20190415T203000
DTEND;TZID=Europe/Madrid:20190416T001500
DTSTAMP:20260425T015610
CREATED:20190401T155127Z
LAST-MODIFIED:20190401T155127Z
UID:275-1555360200-1555373700@infantiles.semanasantademerida.es
SUMMARY:Lunes Santo
DESCRIPTION:Más información [aquí]
URL:https://infantiles.semanasantademerida.es/evento/lunes-santo/
LOCATION:Concatedral de Santa María\, Plaza de España\, Mérida\, Badajoz\, 06800\, Spain
CATEGORIES:procesiones
ATTACH;FMTTYPE=image/jpeg:https://infantiles.semanasantademerida.es/wp-content/uploads/2019/03/lunes-santo-239.jpg
ORGANIZER;CN="Real Hdad. y Cofrad%C3%ADa Infantil":MAILTO:cofradiainfantil@gmail.com
END:VEVENT
BEGIN:VEVENT
DTSTART;TZID=Europe/Madrid:20190414T183000
DTEND;TZID=Europe/Madrid:20190414T213000
DTSTAMP:20260425T015610
CREATED:20190401T154729Z
LAST-MODIFIED:20190401T154856Z
UID:270-1555266600-1555277400@infantiles.semanasantademerida.es
SUMMARY:Domingo de Ramos
DESCRIPTION:Más información [aquí]
URL:https://infantiles.semanasantademerida.es/evento/domingo-de-ramos/
LOCATION:Concatedral de Santa María\, Plaza de España\, Mérida\, Badajoz\, 06800\, Spain
CATEGORIES:procesiones
ATTACH;FMTTYPE=image/jpeg:https://infantiles.semanasantademerida.es/wp-content/uploads/2019/03/S27_0072.jpg
ORGANIZER;CN="Real Hdad. y Cofrad%C3%ADa Infantil":MAILTO:cofradiainfantil@gmail.com
END:VEVENT
BEGIN:VEVENT
DTSTART;TZID=Europe/Madrid:20190330T183000
DTEND;TZID=Europe/Madrid:20190330T193000
DTSTAMP:20260425T015610
CREATED:20190322T082049Z
LAST-MODIFIED:20190401T153925Z
UID:131-1553970600-1553974200@infantiles.semanasantademerida.es
SUMMARY:Culto a Jesús en la Entrada en Jerursalén y Ntra. Sra. del Rosario
DESCRIPTION: 
URL:https://infantiles.semanasantademerida.es/evento/culto-a-jesus-en-la-entrada-en-jerursalen-y-ntra-sra-del-rosario/
LOCATION:Concatedral de Santa María\, Plaza de España\, Mérida\, Badajoz\, 06800\, Spain
CATEGORIES:Cultos
ORGANIZER;CN="Real Hdad. y Cofrad%C3%ADa Infantil":MAILTO:cofradiainfantil@gmail.com
END:VEVENT
END:VCALENDAR